BEGIN:VCALENDAR
VERSION:2.0
PRODID:-//wp-events-plugin.com//6.6.3//EN
TZID:Europe/Berlin
X-WR-TIMEZONE:Europe/Berlin
BEGIN:VEVENT
UID:236@flugschule-goeppingen.de
DTSTART;TZID=Europe/Berlin;VALUE=DATE:20190222
DTEND;TZID=Europe/Berlin;VALUE=DATE:20190225
DTSTAMP:20190209T140829Z
URL:https://flugschule-goeppingen.de/events/b-theorie/
SUMMARY:B-Theorie
DESCRIPTION:
CATEGORIES:Fortbildung,Schulung
END:VEVENT
BEGIN:VTIMEZONE
TZID:Europe/Berlin
X-LIC-LOCATION:Europe/Berlin
BEGIN:STANDARD
DTSTART:20181028T020000
TZOFFSETFROM:+0200
TZOFFSETTO:+0100
TZNAME:CET
END:STANDARD
END:VTIMEZONE
END:VCALENDAR