BEGIN:VCALENDAR
VERSION:2.0
PRODID:-//wp-events-plugin.com//6.6.3//EN
TZID:Europe/Berlin
X-WR-TIMEZONE:Europe/Berlin
BEGIN:VEVENT
UID:233@flugschule-goeppingen.de
DTSTART;TZID=Europe/Berlin;VALUE=DATE:20190821
DTEND;TZID=Europe/Berlin;VALUE=DATE:20190826
DTSTAMP:20181029T104341Z
URL:https://flugschule-goeppingen.de/events/hoehenschulung-zillertal-3/
SUMMARY:Höhenschulung Zillertal
DESCRIPTION:
CATEGORIES:Höhenschulung,Schulung
END:VEVENT
BEGIN:VTIMEZONE
TZID:Europe/Berlin
X-LIC-LOCATION:Europe/Berlin
BEGIN:DAYLIGHT
DTSTART:20190331T030000
TZOFFSETFROM:+0100
TZOFFSETTO:+0200
TZNAME:CEST
END:DAYLIGHT
END:VTIMEZONE
END:VCALENDAR