BEGIN:VCALENDAR
VERSION:2.0
PRODID:-//wp-events-plugin.com//6.6.3//EN
TZID:Europe/Berlin
X-WR-TIMEZONE:Europe/Berlin
BEGIN:VEVENT
UID:994@flugschule-goeppingen.de
DTSTART;TZID=Europe/Berlin;VALUE=DATE:20231008
DTEND;TZID=Europe/Berlin;VALUE=DATE:20231009
DTSTAMP:20220810T165618Z
URL:https://flugschule-goeppingen.de/events/schnupperkurs-4-2023-10-08/
SUMMARY:Schnupperkurs
DESCRIPTION:
CATEGORIES:Schnupperkurs
END:VEVENT
BEGIN:VTIMEZONE
TZID:Europe/Berlin
X-LIC-LOCATION:Europe/Berlin
BEGIN:DAYLIGHT
DTSTART:20230326T030000
TZOFFSETFROM:+0100
TZOFFSETTO:+0200
TZNAME:CEST
END:DAYLIGHT
END:VTIMEZONE
END:VCALENDAR