BEGIN:VCALENDAR
VERSION:2.0
PRODID:-//wp-events-plugin.com//6.6.3//EN
TZID:Europe/Berlin
X-WR-TIMEZONE:Europe/Berlin
BEGIN:VEVENT
UID:466@flugschule-goeppingen.de
DTSTART;TZID=Europe/Berlin;VALUE=DATE:20200926
DTEND;TZID=Europe/Berlin;VALUE=DATE:20201004
DTSTAMP:20200820T144302Z
URL:https://flugschule-goeppingen.de/events/slowenien-rundreise/
SUMMARY:Slowenien
DESCRIPTION:
CATEGORIES:Reise
END:VEVENT
BEGIN:VTIMEZONE
TZID:Europe/Berlin
X-LIC-LOCATION:Europe/Berlin
BEGIN:DAYLIGHT
DTSTART:20200329T030000
TZOFFSETFROM:+0100
TZOFFSETTO:+0200
TZNAME:CEST
END:DAYLIGHT
END:VTIMEZONE
END:VCALENDAR