BEGIN:VCALENDAR
VERSION:2.0
PRODID:-//wp-events-plugin.com//6.6.3//EN
TZID:Europe/Berlin
X-WR-TIMEZONE:Europe/Berlin
BEGIN:VEVENT
UID:485@flugschule-goeppingen.de
DTSTART;TZID=Europe/Berlin;VALUE=DATE:20201122
DTEND;TZID=Europe/Berlin;VALUE=DATE:20201123
DTSTAMP:20200416T151240Z
URL:https://flugschule-goeppingen.de/events/turnhallentraining-4/
SUMMARY:Turnhallentraining 4
DESCRIPTION:
CATEGORIES:Fortbildung
END:VEVENT
BEGIN:VTIMEZONE
TZID:Europe/Berlin
X-LIC-LOCATION:Europe/Berlin
BEGIN:STANDARD
DTSTART:20201025T020000
TZOFFSETFROM:+0200
TZOFFSETTO:+0100
TZNAME:CET
END:STANDARD
END:VTIMEZONE
END:VCALENDAR